BEGIN:VCALENDAR
VERSION:2.0
PRODID:-//Logan Park Neighborhood - ECPv6.15.20//NONSGML v1.0//EN
CALSCALE:GREGORIAN
METHOD:PUBLISH
X-ORIGINAL-URL:https://loganparkneighborhood.org
X-WR-CALDESC:Events for Logan Park Neighborhood
REFRESH-INTERVAL;VALUE=DURATION:PT1H
X-Robots-Tag:noindex
X-PUBLISHED-TTL:PT1H
BEGIN:VTIMEZONE
TZID:America/Chicago
BEGIN:DAYLIGHT
TZOFFSETFROM:-0600
TZOFFSETTO:-0500
TZNAME:CDT
DTSTART:20190310T080000
END:DAYLIGHT
BEGIN:STANDARD
TZOFFSETFROM:-0500
TZOFFSETTO:-0600
TZNAME:CST
DTSTART:20191103T070000
END:STANDARD
BEGIN:DAYLIGHT
TZOFFSETFROM:-0600
TZOFFSETTO:-0500
TZNAME:CDT
DTSTART:20200308T080000
END:DAYLIGHT
BEGIN:STANDARD
TZOFFSETFROM:-0500
TZOFFSETTO:-0600
TZNAME:CST
DTSTART:20201101T070000
END:STANDARD
BEGIN:DAYLIGHT
TZOFFSETFROM:-0600
TZOFFSETTO:-0500
TZNAME:CDT
DTSTART:20210314T080000
END:DAYLIGHT
BEGIN:STANDARD
TZOFFSETFROM:-0500
TZOFFSETTO:-0600
TZNAME:CST
DTSTART:20211107T070000
END:STANDARD
BEGIN:DAYLIGHT
TZOFFSETFROM:-0600
TZOFFSETTO:-0500
TZNAME:CDT
DTSTART:20220313T080000
END:DAYLIGHT
BEGIN:STANDARD
TZOFFSETFROM:-0500
TZOFFSETTO:-0600
TZNAME:CST
DTSTART:20221106T070000
END:STANDARD
END:VTIMEZONE
BEGIN:VEVENT
DTSTART;TZID=America/Chicago:20211103T150000
DTEND;TZID=America/Chicago:20211103T230000
DTSTAMP:20260421T221531
CREATED:20201224T123420Z
LAST-MODIFIED:20210930T170557Z
UID:4493-1635951600-1635980400@loganparkneighborhood.org
SUMMARY:Indeed We Can for Logan Park!
DESCRIPTION:Indeed We Can: Fundraiser for Logan Park Neighborhood Association! \nJoin us at Indeed Brewing Company on November 3\, 2021 from 3-11pm to raise funds for LPNA. All proceeds from the evening will go to LPNA.
URL:https://loganparkneighborhood.org/event/indeed-we-can-for-logan-park/
LOCATION:Indeed Brewing\, 711 15th Ave NE\, Minneapolis\, MN\, United States
END:VEVENT
BEGIN:VEVENT
DTSTART;TZID=America/Chicago:20211020T190000
DTEND;TZID=America/Chicago:20211020T203000
DTSTAMP:20260421T221531
CREATED:20210930T165451Z
LAST-MODIFIED:20210930T165451Z
UID:5167-1634756400-1634761800@loganparkneighborhood.org
SUMMARY:LPNA October 2021 General Meeting
DESCRIPTION:LPNA October General Meeting | Wednesday October 20 | 7pm |email admin@loganparkneighborhood.org for call-in details + passcode
URL:https://loganparkneighborhood.org/event/lpna-october-2021-general-meeting/
END:VEVENT
BEGIN:VEVENT
DTSTART;TZID=America/Chicago:20211013T180000
DTEND;TZID=America/Chicago:20211013T193000
DTSTAMP:20260421T221531
CREATED:20210930T165308Z
LAST-MODIFIED:20210930T165308Z
UID:5164-1634148000-1634153400@loganparkneighborhood.org
SUMMARY:LPNA Pavilion Grand Opening
DESCRIPTION:Join us on Wednesday October 13 from 6pm-7:30pm at the Logan Park\nPerformance Pavilion! We will celebrate our donors and volunteers with\ntreats from MN Nice Cream and music from the Southside Aces. \n 
URL:https://loganparkneighborhood.org/event/lpna-pavilion-grand-opening/
LOCATION:Logan Park\, 690 13th Avenue Northeast\, Minneapolis\, 55418\, United States
END:VEVENT
BEGIN:VEVENT
DTSTART;TZID=America/Chicago:20210918T090000
DTEND;TZID=America/Chicago:20210918T120000
DTSTAMP:20260421T221531
CREATED:20210602T011026Z
LAST-MODIFIED:20210917T201130Z
UID:5063-1631955600-1631966400@loganparkneighborhood.org
SUMMARY:Logan Park Clean Sweep
DESCRIPTION:CleanSweep is Back! September 18\, 2021 9AM-NOON\nLogan Park Neighborhood Association has held a neighborhood CleanSweep almost every year for a quarter of a century. After last year’s hiatus\, we’re back at it! And we need your help! Join us Saturday\, September 18 from 9AM to noon. It’s sure to be a fun\, community event that truly makes a difference!  Plan to wear light or brightly colored\, protective clothing as well as gloves and hard-soled shoes with good ankle support. Sunscreen is encouraged as we’ll be outside for the duration of the CleanSweep. A long-sleeved top and long pants are recommended. \nThe Minneapolis CleanSweep program is a partnership effort between Solid Waste and Recycling and the Logan Park community to help clean up your neighborhood. The entire community can clean out garages\, sheds\, attics\, basements\, yards\, alleyways and boulevards leaving your area sparkling! Leave your items for pick up in your normal refuse area by 9AM on September 18. \nACCEPTABLE ITEMS include: arm chair\, ashes-cold (double bag)\, clothing (unusable rags) couch\, (under 50% metal – no hide-a-bed)\, carpet\, dresser\, end table\, food scraps furniture parts\, glass-broken (double bag\, paper\, then plastic)\, household garbage\, litter\, pet droppings (double bagged)\, polystyrene foam\, saw dust (double bagged)\, storm doors-wood\, venetian blinds\, wood storm windows\, wood chairs\, wood table. \nWe need volunteers!  Volunteers should meet at the Logan Park Performance Pavilion at 8:45 am on September 18th.  Volunteers will be provided coffee\,donuts\, and lunch!
URL:https://loganparkneighborhood.org/event/logan-park-clean-sweep-2/
END:VEVENT
BEGIN:VEVENT
DTSTART;TZID=America/Chicago:20210915T190000
DTEND;TZID=America/Chicago:20210915T210000
DTSTAMP:20260421T221531
CREATED:20210621T141342Z
LAST-MODIFIED:20210621T141342Z
UID:5078-1631732400-1631739600@loganparkneighborhood.org
SUMMARY:LPNA September 2021 General Meeting
DESCRIPTION:LPNA September General Meeting | Wednesday September 15th | 7pm |email admin@loganparkneighborhood.org for call-in details + passcode
URL:https://loganparkneighborhood.org/event/lpna-september-2021-general-meeting/
END:VEVENT
BEGIN:VEVENT
DTSTART;TZID=America/Chicago:20210914T190000
DTEND;TZID=America/Chicago:20210914T203000
DTSTAMP:20260421T221531
CREATED:20210715T123401Z
LAST-MODIFIED:20210715T123401Z
UID:5097-1631646000-1631651400@loganparkneighborhood.org
SUMMARY:LPNA September 2021 Board Meeting
DESCRIPTION:Email admin@loganparkneighborhood.org for the meeting link.
URL:https://loganparkneighborhood.org/event/lpna-september-2021-board-meeting/
END:VEVENT
BEGIN:VEVENT
DTSTART;TZID=America/Chicago:20210721T190000
DTEND;TZID=America/Chicago:20210721T203000
DTSTAMP:20260421T221531
CREATED:20210602T004651Z
LAST-MODIFIED:20210602T004651Z
UID:5045-1626894000-1626899400@loganparkneighborhood.org
SUMMARY:LPNA July General Meeting
DESCRIPTION:Wednesday July 21st\, 7pm  \nEmail admin@loganparkneighborhood.org for the meeting link.
URL:https://loganparkneighborhood.org/event/lpna-july-general-meeting/
END:VEVENT
BEGIN:VEVENT
DTSTART;TZID=America/Chicago:20210713T190000
DTEND;TZID=America/Chicago:20210713T210000
DTSTAMP:20260421T221531
CREATED:20210621T141428Z
LAST-MODIFIED:20210621T141428Z
UID:5080-1626202800-1626210000@loganparkneighborhood.org
SUMMARY:LPNA July 2021 Board Meeting
DESCRIPTION:LPNA July Board Meeting | Tuesday July 13th | 7pm | email admin@loganparkneighborhood.org for call-in details + passcode
URL:https://loganparkneighborhood.org/event/lpna-july-2021-board-meeting/
END:VEVENT
BEGIN:VEVENT
DTSTART;TZID=America/Chicago:20210619T100000
DTEND;TZID=America/Chicago:20210619T120000
DTSTAMP:20260421T221531
CREATED:20210602T010655Z
LAST-MODIFIED:20210602T010655Z
UID:5056-1624096800-1624104000@loganparkneighborhood.org
SUMMARY:LPNA Clean Up June 19th\, 2021
DESCRIPTION:Logan Park Neighborhood Clean Up \n \n\nJune 19th\, 10am – Noon\n \n\nMeet at Logan Park Recreation Center\n\nThe Logan Park Walking Club has transitioned to a monthly walking clean up of the Logan Park Neighborhood.  Meet your neighbors at Logan Park Recreation Center on Saturday June 19th to clean up the neighborhood.  Glove and supplies will be provided.\n\n 
URL:https://loganparkneighborhood.org/event/lpna-clean-up-june-19th-2021/
END:VEVENT
BEGIN:VEVENT
DTSTART;TZID=America/Chicago:20210613T130000
DTEND;TZID=America/Chicago:20210613T150000
DTSTAMP:20260421T221531
CREATED:20210602T010817Z
LAST-MODIFIED:20210602T010918Z
UID:5059-1623589200-1623596400@loganparkneighborhood.org
SUMMARY:Mural Visioning Walk on June 13th at 1 pm
DESCRIPTION:Join us for a Mural Visioning Walk on June 13th at 1 pm!  \nLogan Park Neighborhood Association (LPNA)\, Beltrami Neighborhood Council (BNC)\, Northeast Park Neighborhood Association (NEPNA) has selected Creatives After Curfew to paint murals on the buildings in Logan Park\, Beltrami Park\, and Northeast Park this year! \nThe artists want to kick off the project and meet with neighbors to get ideas for the mural designs through a special “Mural Visioning Walk” on Sunday\, June 13th. Meet outside the Logan Park Recreation Center at 1 pm and walk with your neighbors to each mural location. There will be activities and prizes along the way! Meet the artists\, share your ideas\, and see the planned mural sites. \nSchedule for June 13 (if you prefer to drive\, bike\, or skip the walk) \n1:00 pm: Logan Park \n1:30 pm: Beltrami Park \n2:00 pm: Northeast Park
URL:https://loganparkneighborhood.org/event/mural-visioning-walk-on-june-13th-at-1-pm/
END:VEVENT
BEGIN:VEVENT
DTSTART;TZID=America/Chicago:20210601T080000
DTEND;TZID=America/Chicago:20210601T170000
DTSTAMP:20260421T221531
CREATED:20210602T004747Z
LAST-MODIFIED:20210602T004747Z
UID:5047-1622534400-1622566800@loganparkneighborhood.org
SUMMARY:LPNA September Meeting
DESCRIPTION:Wednesday September 15th\, 2021  7pm \n  \nEmail admin@loganparkneighborhood.org for the meeting link.
URL:https://loganparkneighborhood.org/event/lpna-september-meeting/
END:VEVENT
BEGIN:VEVENT
DTSTART;TZID=America/Chicago:20210519T190000
DTEND;TZID=America/Chicago:20210519T203000
DTSTAMP:20260421T221531
CREATED:20210430T183213Z
LAST-MODIFIED:20210430T183213Z
UID:5025-1621450800-1621456200@loganparkneighborhood.org
SUMMARY:LPNA Annual Meeting
DESCRIPTION:LPNA May General Meeting | Wednesday May 19th\, 2021 | 7pm  | –email admin@loganparkneighborhood.org for call-in details + passcode
URL:https://loganparkneighborhood.org/event/lpna-annual-meeting/
END:VEVENT
BEGIN:VEVENT
DTSTART;TZID=America/Chicago:20210518T190000
DTEND;TZID=America/Chicago:20210518T200000
DTSTAMP:20260421T221531
CREATED:20210430T183344Z
LAST-MODIFIED:20210430T183344Z
UID:5030-1621364400-1621368000@loganparkneighborhood.org
SUMMARY:LPNA Priorities Committee Meeting
DESCRIPTION:LPNA Priorities Committee Meeting | Tuesday May 18th\, 2021 | 7pm | email admin@loganparkneighborhood.org for call-in details + passcode
URL:https://loganparkneighborhood.org/event/lpna-priorities-committee-meeting/
END:VEVENT
BEGIN:VEVENT
DTSTART;TZID=America/Chicago:20210505T190000
DTEND;TZID=America/Chicago:20210505T190000
DTSTAMP:20260421T221531
CREATED:20210430T183304Z
LAST-MODIFIED:20210430T183304Z
UID:5028-1620241200-1620241200@loganparkneighborhood.org
SUMMARY:LPNA May Board Meeting
DESCRIPTION:LPNA May Board Meeting | Wednesday May 5th\, 2021 | 7pm | email admin@loganparkneighborhood.org for call-in details + passcode
URL:https://loganparkneighborhood.org/event/lpna-may-board-meeting/
END:VEVENT
BEGIN:VEVENT
DTSTART;TZID=America/Chicago:20210421T190000
DTEND;TZID=America/Chicago:20210421T203000
DTSTAMP:20260421T221531
CREATED:20210322T205559Z
LAST-MODIFIED:20210408T165352Z
UID:4627-1619031600-1619037000@loganparkneighborhood.org
SUMMARY:LPNA General Meeting April 21\, 2021
DESCRIPTION:Join us for the April LPNA General Meeting! \nAgenda: \nLogan Park Pavilion Presentation\nHilari ZiaiMehr\, Briar Bar\, 1231 Washington Ave  \nEmail admin@loganparkneighborhood.org for the meeting link. \n 
URL:https://loganparkneighborhood.org/event/lpna-general-meeting-april-21-2021/
END:VEVENT
BEGIN:VEVENT
DTSTART;TZID=America/Chicago:20210317T190000
DTEND;TZID=America/Chicago:20210317T203000
DTSTAMP:20260421T221531
CREATED:20210208T131749Z
LAST-MODIFIED:20210218T202825Z
UID:4536-1616007600-1616013000@loganparkneighborhood.org
SUMMARY:LPNA General Meeting March 17th\, 2021
DESCRIPTION:March 2021 LPNA General Meeting\n Mar 17\, 2021 07:00 PM Central Time (US and Canada) \nEmail admin@loganparkneighborhood.org for meeting details and passcode
URL:https://loganparkneighborhood.org/event/march-lpna-general-meeting/
END:VEVENT
BEGIN:VEVENT
DTSTART;TZID=America/Chicago:20210310T190000
DTEND;TZID=America/Chicago:20210310T203000
DTSTAMP:20260421T221531
CREATED:20210209T213435Z
LAST-MODIFIED:20210218T202911Z
UID:4542-1615402800-1615408200@loganparkneighborhood.org
SUMMARY:LPNA March 10th Board Meeting
DESCRIPTION:March 10th LPNA Board Meeting 7:00 PM  \nEmail admin@loganparkneighborhood.org for meeting details and passcode
URL:https://loganparkneighborhood.org/event/lpna-march-board-meeting/
END:VEVENT
BEGIN:VEVENT
DTSTART;TZID=America/Chicago:20210217T190000
DTEND;TZID=America/Chicago:20210217T203000
DTSTAMP:20260421T221531
CREATED:20210119T194714Z
LAST-MODIFIED:20210217T155234Z
UID:4508-1613588400-1613593800@loganparkneighborhood.org
SUMMARY:Feb 17th LPNA General Meeting
DESCRIPTION:February LPNA General Meeting\n Feb 17\, 2021 07:00 PM Central Time   \nJoin Zoom Meeting\nhttps://us02web.zoom.us/j/81028616238 \nDial in +13126266799\,  Meeting ID: 810 2861 6238\nAgenda:\n-Pastor Becky\, Elim Cold Weather Emergency Shelter Updates\n-Council Member Kevin Reich\n-LPNA Committee Updates
URL:https://loganparkneighborhood.org/event/feb-17th-lpna-general-meeting/
END:VEVENT
BEGIN:VEVENT
DTSTART;TZID=America/Chicago:20210208T190000
DTEND;TZID=America/Chicago:20210208T210000
DTSTAMP:20260421T221531
CREATED:20210114T194629Z
LAST-MODIFIED:20210114T194629Z
UID:4500-1612810800-1612818000@loganparkneighborhood.org
SUMMARY:LPNA February Board Meeting
DESCRIPTION:  \nUse Meeting Link:  https://us02web.zoom.us/j/85829132728 \nOr dial in +1 312 626 6799\, Meeting ID: 858 2913 2728
URL:https://loganparkneighborhood.org/event/lpna-february-board-meeting/
END:VEVENT
BEGIN:VEVENT
DTSTART;TZID=America/Chicago:20210120T190000
DTEND;TZID=America/Chicago:20210120T210000
DTSTAMP:20260421T221531
CREATED:20201211T192339Z
LAST-MODIFIED:20210120T185827Z
UID:4439-1611169200-1611176400@loganparkneighborhood.org
SUMMARY:LPNA January 2021 General Meeting
DESCRIPTION:LPNA January 2021 General Meeting\nJan 20\, 2021   7:00 PM  \nView draft agenda here \nJoin Zoom Meeting\nhttps://us02web.zoom.us/j/88298132536 \nMeeting ID: 882 9813 2536 \nDial by your location\n+1 312 626 6799 US (Chicago)\nMeeting ID: 882 9813 2536 \n 
URL:https://loganparkneighborhood.org/event/lpna-january-2021-general-meeting/
END:VEVENT
BEGIN:VEVENT
DTSTART;TZID=America/Chicago:20201213T170000
DTEND;TZID=America/Chicago:20201213T170000
DTSTAMP:20260421T221531
CREATED:20201016T174605Z
LAST-MODIFIED:20201016T174709Z
UID:4384-1607878800-1607878800@loganparkneighborhood.org
SUMMARY:Lights of Logan 2020
DESCRIPTION:Lights of Logan Lighting Contest\,\nSunday December 13th\, 5pm\n \nHave you house/yard lights on by 5pm to be considered for judging.\nTop 3 homes will receive a $50 gift card!\nWinners will be announced in the January newsletter.\nSponsored by Logan Park Neighborhood Association. 
URL:https://loganparkneighborhood.org/event/lights-of-logan-2020/
END:VEVENT
BEGIN:VEVENT
DTSTART;TZID=America/Chicago:20201118T190000
DTEND;TZID=America/Chicago:20201118T203000
DTSTAMP:20260421T221531
CREATED:20200929T204302Z
LAST-MODIFIED:20201118T211703Z
UID:4357-1605726000-1605731400@loganparkneighborhood.org
SUMMARY:LPNA November 18th\, 2020 General Meeting
DESCRIPTION:Wednesday  November 18th\, LPNA General Meeting\, 7pm\, Use meeting link or dial in +1312-626-6799\, Meeting ID: 848 1310 1828\n\nhttps://us02web.zoom.us/j/84813101828 \nGuests: Larry Matsumoto\,  Public Works (17th Ave project) and Dr. LaTonya Whitley\, Strong Tower Shelter\nAgenda Draft Here
URL:https://loganparkneighborhood.org/event/lpna-november-general-meeting/
END:VEVENT
BEGIN:VEVENT
DTSTART;TZID=America/Chicago:20201021T190000
DTEND;TZID=America/Chicago:20201021T203000
DTSTAMP:20260421T221531
CREATED:20200920T230704Z
LAST-MODIFIED:20201014T184350Z
UID:4343-1603306800-1603312200@loganparkneighborhood.org
SUMMARY:LPNA October 21st General Meeting
DESCRIPTION:Dial in +1312-626-6799\, Meeting ID 865 8733 0550 \nZoom link:  https://us02web.zoom.us/j/86587330550 \n 
URL:https://loganparkneighborhood.org/event/lpna-october-general-meeting/
END:VEVENT
BEGIN:VEVENT
DTSTART;TZID=America/Chicago:20200923T150000
DTEND;TZID=America/Chicago:20200923T230000
DTSTAMP:20260421T221531
CREATED:20200710T182258Z
LAST-MODIFIED:20200911T210319Z
UID:4251-1600873200-1600902000@loganparkneighborhood.org
SUMMARY:Indeed We Can Fundraiser
DESCRIPTION:Indeed We Can for LPNA Fundraiser! \nWednesday September 23rd\,2020  3-11 pm \nNot ready for an in-person fundraiser?  We got you covered! \nSchedule a delivery or pick up!  \nAll proceeds from delivery and pick up orders will be included in the fundraiser! \nTo Go and Delivery Details: \n\nOpen Monday-Saturday 12-10pm & Sunday 12-8pm (walk-ups welcome)\nDelivery is available Monday-Friday 1-5pm; same-day delivery on orders placed by 3:30pm; $5 delivery fee goes to the driver\nPick-up is from the service window on 15th Street\nOrder here (online order required for delivery)\n\n 
URL:https://loganparkneighborhood.org/event/indeed-we-can-fundraiser-3/
LOCATION:Indeed Brewing\, 711 15th Ave NE\, Minneapolis\, MN\, United States
END:VEVENT
BEGIN:VEVENT
DTSTART;TZID=America/Chicago:20200916T190000
DTEND;TZID=America/Chicago:20200916T210000
DTSTAMP:20260421T221531
CREATED:20200710T182108Z
LAST-MODIFIED:20200827T011209Z
UID:4248-1600282800-1600290000@loganparkneighborhood.org
SUMMARY:LPNA General Meeting September 16th
DESCRIPTION:Join online : https://us02web.zoom.us/j/81705780587 \nor  Dial in +13126266799   – Meeting ID: 81705780587 \nAgenda:  \n\nLPNA Board Elections (to fill vacant seats)\nArtspace—Northrup King residential project\nDiscussion on long term housing and shelter \, introduction by Sue Watlov Phillips – Executive Director for Metropolitan Interfaith Coalition for Affordable Housing – featuring guests Senator Kari Dziedzic\, Representative Sydney Jordan\, Council Member Kevin Reich\, Hennepin County Commissioner Irene Fernando\, & Elim Church pastors\n\nNOTE: The public is welcome at all LPNA meetings. All meetings are accessible and requests for special accommodations at LPNA meetings may be made by contacting us no less than one week prior to the event. Please contact LPNA with specific requests. \n 
URL:https://loganparkneighborhood.org/event/lpna-general-meeting-september-16th/
END:VEVENT
BEGIN:VEVENT
DTSTART;TZID=America/Chicago:20200715T190000
DTEND;TZID=America/Chicago:20200715T210000
DTSTAMP:20260421T221531
CREATED:20200612T181808Z
LAST-MODIFIED:20200710T182216Z
UID:4213-1594839600-1594846800@loganparkneighborhood.org
SUMMARY:LPNA General Meeting July 15th
DESCRIPTION:Zoom Link:  https://us02web.zoom.us/j/89203456841 \nor Dial in 1-312-626-6799\, Meeting ID 89203456841
URL:https://loganparkneighborhood.org/event/lpna-general-meeting-july-15th/
END:VEVENT
BEGIN:VEVENT
DTSTART;TZID=America/Chicago:20200617T190000
DTEND;TZID=America/Chicago:20200617T203000
DTSTAMP:20260421T221531
CREATED:20200508T160328Z
LAST-MODIFIED:20200617T182608Z
UID:4140-1592420400-1592425800@loganparkneighborhood.org
SUMMARY:LPNA June 17th General Meeting
DESCRIPTION:Join Zoom Meeting\nhttps://us02web.zoom.us/j/82778290046 \n \nDial in:+13126266799\nMeeting ID: 827 7829 0046
URL:https://loganparkneighborhood.org/event/lpna-june-general-meeting/
END:VEVENT
BEGIN:VEVENT
DTSTART;TZID=America/Chicago:20200520T190000
DTEND;TZID=America/Chicago:20200520T200000
DTSTAMP:20260421T221531
CREATED:20200410T160141Z
LAST-MODIFIED:20200521T003116Z
UID:4080-1590001200-1590004800@loganparkneighborhood.org
SUMMARY:LPNA Annual Membership Meeting 
DESCRIPTION:Online Meeting via Zoom \nhttps://us02web.zoom.us/j/95415567130 \n 
URL:https://loganparkneighborhood.org/event/lpna-annual-membership-meeting/
END:VEVENT
BEGIN:VEVENT
DTSTART;TZID=America/Chicago:20200415T190000
DTEND;TZID=America/Chicago:20200415T200000
DTSTAMP:20260421T221531
CREATED:20200410T160048Z
LAST-MODIFIED:20200410T160048Z
UID:4078-1586977200-1586980800@loganparkneighborhood.org
SUMMARY:Logan Park Pavilion Project: Community Engagement
DESCRIPTION:Online meeting via Zoom
URL:https://loganparkneighborhood.org/event/logan-park-pavilion-project-community-engagement/
END:VEVENT
BEGIN:VEVENT
DTSTART;TZID=America/Chicago:20200409T183000
DTEND;TZID=America/Chicago:20200409T200000
DTSTAMP:20260421T221531
CREATED:20200327T161317Z
LAST-MODIFIED:20200327T161317Z
UID:4029-1586457000-1586462400@loganparkneighborhood.org
SUMMARY:LPNA Board Meeting
DESCRIPTION:Thursday April 9th ·  LPNA Board Meeting  · 6:30pm @ Zoom Meeting https://zoom.us/j/771361741
URL:https://loganparkneighborhood.org/event/lpna-board-meeting-2/
END:VEVENT
END:VCALENDAR